BEGIN:VCALENDAR
VERSION:2.0
PRODID:-//https://eruuf.org///NONSGML kigkonsult.se iCalcreator 2.10.15//
METHOD:PUBLISH
BEGIN:VEVENT
UID:20260420T040259UTC-5274xgcrJp@https://eruuf.org/
DTSTAMP:20260420T040259Z
DESCRIPTION:Contact Joyce Boucheron https://eruuf.org/calendar/calendar-vie
 w/event/282-companions-network.html
DTSTART:20170801T170000Z
DTEND:20170801T190000Z
LOCATION:Room 7 - CARE Building ()
SUMMARY:Companions Network
URL:https://eruuf.org/calendar/calendar-view/event/282-companions-network.h
 tml
END:VEVENT
END:VCALENDAR
