BEGIN:VCALENDAR
VERSION:2.0
PRODID:-//https://eruuf.org///NONSGML kigkonsult.se iCalcreator 2.10.15//
METHOD:PUBLISH
BEGIN:VEVENT
UID:20260422T214731UTC-9725id26Bg@https://eruuf.org/
DTSTAMP:20260422T214731Z
DESCRIPTION:Leadership Development classes sponsored by the Nominating Comm
 ittee and the Adult Programs Team.  Contact Trish Rafalow or Xolani Kacela
 \, xkacela@eruuf.org https://eruuf.org/calendar/calendar-view/event/2838-h
 ow-to-use-your-power-classes.html
DTSTART:20170309T000000Z
DTEND:20170309T020000Z
LOCATION:Room 4/5   (4907 Garrett Rd\, Durham\, NC 27707   )
SUMMARY:How to Use Your Power classes
URL:https://eruuf.org/calendar/calendar-view/event/2838-how-to-use-your-pow
 er-classes.html
END:VEVENT
END:VCALENDAR
