BEGIN:VCALENDAR
VERSION:2.0
PRODID:-//https://eruuf.org///NONSGML kigkonsult.se iCalcreator 2.10.15//
METHOD:PUBLISH
BEGIN:VEVENT
UID:20260426T035204UTC-5092xX4nap@https://eruuf.org/
DTSTAMP:20260426T035204Z
DESCRIPTION:Monthly meeting of the Multicultural Team.  Contact Diane Bloun
 t https://eruuf.org/calendar/calendar-view/event/3017-multicultural-team-m
 eeting.html
DTSTART:20170619T230000Z
DTEND:20170620T010000Z
LOCATION:Room 1 - CARE Building ()
SUMMARY:Multicultural Team meeting
URL:https://eruuf.org/calendar/calendar-view/event/3017-multicultural-team-
 meeting.html
END:VEVENT
END:VCALENDAR
