BEGIN:VCALENDAR
VERSION:2.0
PRODID:-//https://eruuf.org///NONSGML kigkonsult.se iCalcreator 2.10.15//
METHOD:PUBLISH
BEGIN:VEVENT
UID:20260424T091212UTC-2235t1vD8m@https://eruuf.org/
DTSTAMP:20260424T091212Z
DESCRIPTION:Monthly meeting of the Multicultural Team.  Contact Diane Bloun
 t https://eruuf.org/calendar/calendar-view/event/3018-multicultural-team-m
 eeting.html
DTSTART:20170515T230000Z
DTEND:20170516T010000Z
LOCATION:Room 1 - CARE Building ()
SUMMARY:Multicultural Team meeting
URL:https://eruuf.org/calendar/calendar-view/event/3018-multicultural-team-
 meeting.html
END:VEVENT
END:VCALENDAR
