BEGIN:VCALENDAR
VERSION:2.0
PRODID:-//https://eruuf.org///NONSGML kigkonsult.se iCalcreator 2.10.15//
METHOD:PUBLISH
BEGIN:VEVENT
UID:20260422T225127UTC-3125FBxRxR@https://eruuf.org/
DTSTAMP:20260422T225127Z
DESCRIPTION:Monthly meeting of the Multicultural Team.  Contact Diane Bloun
 t https://eruuf.org/calendar/calendar-view/event/3021-multicultural-team-m
 eeting.html
DTSTART:20170221T000000Z
DTEND:20170221T020000Z
LOCATION:Room 1 - CARE Building ()
SUMMARY:Multicultural Team meeting
URL:https://eruuf.org/calendar/calendar-view/event/3021-multicultural-team-
 meeting.html
END:VEVENT
END:VCALENDAR
