BEGIN:VCALENDAR
VERSION:2.0
PRODID:-//https://eruuf.org///NONSGML kigkonsult.se iCalcreator 2.10.15//
METHOD:PUBLISH
BEGIN:VEVENT
UID:20260423T085533UTC-0512TFnCHd@https://eruuf.org/
DTSTAMP:20260423T085533Z
DESCRIPTION:The Board of Trustees monthly meeting is open for viewing to al
 l ERUUF members. Contact David Tucker\, Board Chair\, board@eruuf.org http
 s://eruuf.org/calendar/calendar-view/event/3022-board-of-trustees-meeting.
 html
DTSTART:20170620T223000Z
DTEND:20170621T013000Z
LOCATION:Room 1 - CARE Building ()
SUMMARY:Board of Trustees meeting
URL:https://eruuf.org/calendar/calendar-view/event/3022-board-of-trustees-m
 eeting.html
END:VEVENT
END:VCALENDAR
