BEGIN:VCALENDAR
VERSION:2.0
PRODID:-//https://eruuf.org///NONSGML kigkonsult.se iCalcreator 2.10.15//
METHOD:PUBLISH
BEGIN:VEVENT
UID:20260426T021415UTC-2013u8trmG@https://eruuf.org/
DTSTAMP:20260426T021415Z
DESCRIPTION:Join the Multicultural Team in the Commons Room to watch The Po
 wer of Privilege - Tedx talk by Tiffany JanaUsing her own personal story\,
  Tiffany Jana presents a discussion of intersectionality and privilege in 
 it's many forms. Followed by a facilitated discussion.Tiffany has directed
  organizational development\, marketing\, and community outreach initiativ
 es for over 10 years. She founded TMI Consulting\, the world's first Diver
 sity and Inclusion Certified Benefit Corporation. TMI Consulting recently 
 designed and facilitated a very successful series of transatlantic coopera
 tive civic-engagement workshops in the US and the EU for the German Marsha
 ll Fund as well as a Congressional Leadership series of bipartisan dialogu
 es on race and democracy. Tiffany's leadership in community building work 
 has been recognized twice in the Wall Street Journal. She was named one of
  Richmond's 2013 'Top 40 Under 40' by Style Weekly. Tiffany has a bachelor
 's in Business Management and Marketing\, an MBA in Global Management\, an
 d is currently a candidate for a Doctor of Management in Organizational Le
 adership. https://eruuf.org/calendar/calendar-view/event/3048-multicultura
 l-team-ted-talk-discussion.html
DTSTART:20170223T000000Z
DTEND:20170223T020000Z
LOCATION:Room 4/5   (4907 Garrett Rd\, Durham\, NC 27707   )
SUMMARY:Multicultural Team TED talk discussion
URL:https://eruuf.org/calendar/calendar-view/event/3048-multicultural-team-
 ted-talk-discussion.html
END:VEVENT
END:VCALENDAR
