BEGIN:VCALENDAR
VERSION:2.0
PRODID:-//https://eruuf.org///NONSGML kigkonsult.se iCalcreator 2.10.15//
METHOD:PUBLISH
BEGIN:VEVENT
UID:20260425T011254UTC-3853UZAGgi@https://eruuf.org/
DTSTAMP:20260425T011254Z
DESCRIPTION:Join the Multicultural Team in the Commons Room to watch What I
  am learning from my white grandchildren: truths about race - Tedx talk by
  Anthony Peterson.  Followed by facilitated discussion.Are we in a post-ra
 cial society? Do we want to be? Anthony Peterson\, an African American\, d
 raws from current research and from conversations with his Anglo American 
 grandchildren to address truths about race in 21st century America. https:
 //eruuf.org/calendar/calendar-view/event/3049-multicultural-team-ted-talk-
 discussion.html
DTSTART:20170209T000000Z
DTEND:20170209T020000Z
LOCATION:Room 4/5   (4907 Garrett Rd\, Durham\, NC 27707   )
SUMMARY:Multicultural Team TED talk discussion
URL:https://eruuf.org/calendar/calendar-view/event/3049-multicultural-team-
 ted-talk-discussion.html
END:VEVENT
END:VCALENDAR
