BEGIN:VCALENDAR
VERSION:2.0
PRODID:-//https://eruuf.org///NONSGML kigkonsult.se iCalcreator 2.10.15//
METHOD:PUBLISH
BEGIN:VEVENT
UID:20260422T183158UTC-2401JUzONE@https://eruuf.org/
DTSTAMP:20260422T183158Z
DESCRIPTION:Contact Simon Kaplan https://eruuf.org/calendar/calendar-view/e
 vent/3097-nominating-committee.html
DTSTART:20170312T170000Z
DTEND:20170312T181500Z
LOCATION:Library - CARE Building ()
SUMMARY:Nominating Committee
URL:https://eruuf.org/calendar/calendar-view/event/3097-nominating-committe
 e.html
END:VEVENT
END:VCALENDAR
