BEGIN:VCALENDAR
VERSION:2.0
PRODID:-//https://eruuf.org///NONSGML kigkonsult.se iCalcreator 2.10.15//
METHOD:PUBLISH
BEGIN:VEVENT
UID:20260426T014501UTC-47228KlHgv@https://eruuf.org/
DTSTAMP:20260426T014501Z
DESCRIPTION:Contact Simon Kaplan https://eruuf.org/calendar/calendar-view/e
 vent/3099-nominating-committee.html
DTSTART:20170226T180000Z
DTEND:20170226T191500Z
LOCATION:Library - CARE Building ()
SUMMARY:Nominating Committee
URL:https://eruuf.org/calendar/calendar-view/event/3099-nominating-committe
 e.html
END:VEVENT
END:VCALENDAR
