BEGIN:VCALENDAR
VERSION:2.0
PRODID:-//https://eruuf.org///NONSGML kigkonsult.se iCalcreator 2.10.15//
METHOD:PUBLISH
BEGIN:VEVENT
UID:20260423T162108UTC-5950uEcBwi@https://eruuf.org/
DTSTAMP:20260423T162108Z
DESCRIPTION:Contact Simon Kaplan https://eruuf.org/calendar/calendar-view/e
 vent/3100-nominating-committee.html
DTSTART:20170219T180000Z
DTEND:20170219T191500Z
LOCATION:Library - CARE Building ()
SUMMARY:Nominating Committee
URL:https://eruuf.org/calendar/calendar-view/event/3100-nominating-committe
 e.html
END:VEVENT
END:VCALENDAR
