BEGIN:VCALENDAR
VERSION:2.0
PRODID:-//https://eruuf.org///NONSGML kigkonsult.se iCalcreator 2.10.15//
METHOD:PUBLISH
BEGIN:VEVENT
UID:20260424T090508UTC-2934SHAm3j@https://eruuf.org/
DTSTAMP:20260424T090508Z
DESCRIPTION:Contact Simon Kaplan https://eruuf.org/calendar/calendar-view/e
 vent/3101-nominating-committee.html
DTSTART:20170212T180000Z
DTEND:20170212T191500Z
LOCATION:Library - CARE Building ()
SUMMARY:Nominating Committee
URL:https://eruuf.org/calendar/calendar-view/event/3101-nominating-committe
 e.html
END:VEVENT
END:VCALENDAR
