BEGIN:VCALENDAR
VERSION:2.0
PRODID:-//https://eruuf.org///NONSGML kigkonsult.se iCalcreator 2.10.15//
METHOD:PUBLISH
BEGIN:VEVENT
UID:20260423T183511UTC-87662fsrMr@https://eruuf.org/
DTSTAMP:20260423T183511Z
DESCRIPTION:Contact P. Quick Hall. https://eruuf.org/calendar/calendar-view
 /event/3116-hbcu-outreach-project.html
DTSTART:20170508T224500Z
DTEND:20170509T010000Z
LOCATION:Room 1 - CARE Building ()
SUMMARY:HBCU Outreach Project
URL:https://eruuf.org/calendar/calendar-view/event/3116-hbcu-outreach-proje
 ct.html
END:VEVENT
END:VCALENDAR
