BEGIN:VCALENDAR
VERSION:2.0
PRODID:-//https://eruuf.org///NONSGML kigkonsult.se iCalcreator 2.10.15//
METHOD:PUBLISH
BEGIN:VEVENT
UID:20260423T111914UTC-5773xbhNUd@https://eruuf.org/
DTSTAMP:20260423T111914Z
DESCRIPTION:Contact P. Quick Hall. https://eruuf.org/calendar/calendar-view
 /event/3117-hbcu-outreach-project.html
DTSTART:20170410T224500Z
DTEND:20170411T010000Z
LOCATION:Room 1 - CARE Building ()
SUMMARY:HBCU Outreach Project
URL:https://eruuf.org/calendar/calendar-view/event/3117-hbcu-outreach-proje
 ct.html
END:VEVENT
END:VCALENDAR
