BEGIN:VCALENDAR
VERSION:2.0
PRODID:-//https://eruuf.org///NONSGML kigkonsult.se iCalcreator 2.10.15//
METHOD:PUBLISH
BEGIN:VEVENT
UID:20260420T042409UTC-8399HGtIUC@https://eruuf.org/
DTSTAMP:20260420T042409Z
DESCRIPTION:Come join us with your knitting or crocheting project for fun\,
  fellowship and learning about our ministry of giving to the community thr
 ough our hearts and hands. A relaxing time sharing patterns and ideas. Con
 tact Linda Brown\, clickers@eruuf.org https://eruuf.org/calendar/calendar-
 view/event/316-clicking-for-a-cause.html
DTSTART:20170626T213000Z
DTEND:20170626T230000Z
LOCATION:Library - CARE Building ()
SUMMARY:Clicking for a Cause
URL:https://eruuf.org/calendar/calendar-view/event/316-clicking-for-a-cause
 .html
END:VEVENT
END:VCALENDAR
