BEGIN:VCALENDAR
VERSION:2.0
PRODID:-//https://eruuf.org///NONSGML kigkonsult.se iCalcreator 2.10.15//
METHOD:PUBLISH
BEGIN:VEVENT
UID:20260423T064916UTC-2815ppB315@https://eruuf.org/
DTSTAMP:20260423T064916Z
DESCRIPTION:Come join us with your knitting or crocheting project for fun\,
  fellowship and learning about our ministry of giving to the community thr
 ough our hearts and hands. A relaxing time sharing patterns and ideas. Con
 tact Linda Brown\, clickers@eruuf.org https://eruuf.org/calendar/calendar-
 view/event/3194-clicking-for-a-cause.html
DTSTART:20180611T130000Z
DTEND:20180611T150000Z
LOCATION:Commons Room   (4907 Garrett Rd\, Durham\, NC 27707  )
SUMMARY:Clicking for a Cause
URL:https://eruuf.org/calendar/calendar-view/event/3194-clicking-for-a-caus
 e.html
END:VEVENT
END:VCALENDAR
