BEGIN:VCALENDAR
VERSION:2.0
PRODID:-//https://eruuf.org///NONSGML kigkonsult.se iCalcreator 2.10.15//
METHOD:PUBLISH
BEGIN:VEVENT
UID:20260422T095317UTC-1375LSaavS@https://eruuf.org/
DTSTAMP:20260422T095317Z
DESCRIPTION:Contact Joyce Boucheron https://eruuf.org/calendar/calendar-vie
 w/event/334-companions-network.html
DTSTART:20170606T170000Z
DTEND:20170606T183000Z
LOCATION:Commons Room   (4907 Garrett Rd\, Durham\, NC 27707  )
SUMMARY:Companions Network
URL:https://eruuf.org/calendar/calendar-view/event/334-companions-network.h
 tml
END:VEVENT
END:VCALENDAR
