BEGIN:VCALENDAR
VERSION:2.0
PRODID:-//https://eruuf.org///NONSGML kigkonsult.se iCalcreator 2.10.15//
METHOD:PUBLISH
BEGIN:VEVENT
UID:20260423T020831UTC-5916dEoUh4@https://eruuf.org/
DTSTAMP:20260423T020831Z
DESCRIPTION:For all friends\, visitors or guests who want to know more abou
 t ERUUF and Unitarian Universalism.  Contact Jacqueline Brett https://eruu
 f.org/calendar/calendar-view/event/3592-newcomer-orientation.html
DTSTART:20180708T163000Z
DTEND:20180708T170000Z
LOCATION:Sanctuary - ERUUF   (4907 Garrett Road\, Durham\, NC 27707  )
SUMMARY:Newcomer Orientation
URL:https://eruuf.org/calendar/calendar-view/event/3592-newcomer-orientatio
 n.html
END:VEVENT
END:VCALENDAR
