BEGIN:VCALENDAR
VERSION:2.0
PRODID:-//https://eruuf.org///NONSGML kigkonsult.se iCalcreator 2.10.15//
METHOD:PUBLISH
BEGIN:VEVENT
UID:20260420T114608UTC-98319hgcuu@https://eruuf.org/
DTSTAMP:20260420T114608Z
DESCRIPTION:Contact Joyce Boucheron https://eruuf.org/calendar/calendar-vie
 w/event/3728-companions-network.html
DTSTART:20180403T170000Z
DTEND:20180403T190000Z
LOCATION:Room 7 - CARE Building ()
SUMMARY:Companions Network
URL:https://eruuf.org/calendar/calendar-view/event/3728-companions-network.
 html
END:VEVENT
END:VCALENDAR
