BEGIN:VCALENDAR
VERSION:2.0
PRODID:-//https://eruuf.org///NONSGML kigkonsult.se iCalcreator 2.10.15//
METHOD:PUBLISH
BEGIN:VEVENT
UID:20260421T134518UTC-3522ebtnoi@https://eruuf.org/
DTSTAMP:20260421T134518Z
DESCRIPTION:Contact Joyce Boucheron https://eruuf.org/calendar/calendar-vie
 w/event/3731-companions-network.html
DTSTART:20180102T180000Z
DTEND:20180102T200000Z
LOCATION:Room 7 - CARE Building ()
SUMMARY:Companions Network
URL:https://eruuf.org/calendar/calendar-view/event/3731-companions-network.
 html
END:VEVENT
END:VCALENDAR
