BEGIN:VCALENDAR
VERSION:2.0
PRODID:-//https://eruuf.org///NONSGML kigkonsult.se iCalcreator 2.10.15//
METHOD:PUBLISH
BEGIN:VEVENT
UID:20260421T181528UTC-14402vbV6h@https://eruuf.org/
DTSTAMP:20260421T181528Z
DESCRIPTION:Contact Joyce Boucheron https://eruuf.org/calendar/calendar-vie
 w/event/3733-companions-network.html
DTSTART:20171107T180000Z
DTEND:20171107T200000Z
LOCATION:Room 7 - CARE Building ()
SUMMARY:Companions Network
URL:https://eruuf.org/calendar/calendar-view/event/3733-companions-network.
 html
END:VEVENT
END:VCALENDAR
