BEGIN:VCALENDAR
VERSION:2.0
PRODID:-//https://eruuf.org///NONSGML kigkonsult.se iCalcreator 2.10.15//
METHOD:PUBLISH
BEGIN:VEVENT
UID:20260423T014819UTC-2326VU0h5s@https://eruuf.org/
DTSTAMP:20260423T014819Z
DESCRIPTION:A month of classes for new members interested in building relat
 ionships while exploring what’s happening at ERUUF. Gather each time to le
 arn about a ministry\, participate in its activities\, and reflect in smal
 l groups on your observations and experiences. Long-term members welcome! 
 Contact Jacqueline Brett\,jbrett@eruuf.org for more information. https://e
 ruuf.org/calendar/calendar-view/event/3764-covenant-and-community-class.ht
 ml
DTSTART:20171116T000000Z
DTEND:20171116T011500Z
LOCATION:Room 7 - CARE Building ()
SUMMARY:Covenant and Community Class
URL:https://eruuf.org/calendar/calendar-view/event/3764-covenant-and-commun
 ity-class.html
END:VEVENT
END:VCALENDAR
