BEGIN:VCALENDAR
VERSION:2.0
PRODID:-//https://eruuf.org///NONSGML kigkonsult.se iCalcreator 2.10.15//
METHOD:PUBLISH
BEGIN:VEVENT
UID:20260420T005411UTC-0369tUBNCM@https://eruuf.org/
DTSTAMP:20260420T005411Z
DESCRIPTION:Find out how things work at ERUUF and what really matters here.
   This series of classes has been created especially for new members. They
   provide critical 'must know' information about ERUUF\, how to get basic 
 things done\, and how ERUUF communicates with you. Long-time members who w
 ant a refresher are also welcome!  Classes on Sundays from 10:30 - 11:00 a
 m in the Chapel. Questions: jbrett@eruuf.org.SESSION ONE - CovenantSESSION
  TWO - Culture and CommunityLifting up our congregation’s history around r
 ace\, our commitments to racial equity and inclusion\, and how we're invit
 ing everyone here to become an “ERUUF Visionary” by participating in this 
 effort.SESSION THREE - ERUUF OnlineGet a quick tutorial on how to find the
  important features of our website\, and the benefits in using the myERUUF
  portal.SESSION FOUR - Why Church Size Matters When Getting Things DoneHow
  do things get decided at ERUUF? Why would this matter to you? Who's on th
 e Board of Trustees\, and how might you get involved?  https://eruuf.org/c
 alendar/calendar-view/event/3781-eruuf-member-toolkit-class.html
DTSTART:20171029T143000Z
DTEND:20171029T150000Z
LOCATION:Chapel   ()
SUMMARY:ERUUF Member Toolkit class
URL:https://eruuf.org/calendar/calendar-view/event/3781-eruuf-member-toolki
 t-class.html
END:VEVENT
END:VCALENDAR
