BEGIN:VCALENDAR
VERSION:2.0
PRODID:-//https://eruuf.org///NONSGML kigkonsult.se iCalcreator 2.10.15//
METHOD:PUBLISH
BEGIN:VEVENT
UID:20260419T201347UTC-5027OKmT7H@https://eruuf.org/
DTSTAMP:20260419T201347Z
DESCRIPTION:Find out how things work at ERUUF and what really matters here.
   This series of classes has been created especially for new members. They
   provide critical 'must know' information about ERUUF\, how to get basic 
 things done\, and how ERUUF communicates with you. Long-time members who w
 ant a refresher are also welcome!  Classes on Sundays from 10:30 - 11:00 a
 m in the Chapel. Questions: jbrett@eruuf.org.SESSION ONE - Culture and Com
 munityThe series begins by lifting up our congregation’s history around ra
 ce\, our commitments to racial equity and inclusion\, and how we're inviti
 ng everyone here to become an “ERUUF Visionary” by participating in this e
 ffort.SESSION TWO - ERUUF OnlineGet a quick tutorial on how to find the im
 portant features of our website\, and the benefits in using the myERUUF po
 rtal.SESSION THREE - How is ERUUF Governed?How do things get decided at ER
 UUF? Why would this matter to you? Who's on the Board of Trustees\, and ho
 w might you get involved? https://eruuf.org/calendar/calendar-view/event/3
 783-eruuf-member-toolkit-class.html
DTSTART:20171015T143000Z
DTEND:20171015T150000Z
LOCATION:Chapel   ()
SUMMARY:ERUUF Member Toolkit class
URL:https://eruuf.org/calendar/calendar-view/event/3783-eruuf-member-toolki
 t-class.html
END:VEVENT
END:VCALENDAR
