BEGIN:VCALENDAR
VERSION:2.0
PRODID:-//https://eruuf.org///NONSGML kigkonsult.se iCalcreator 2.10.15//
METHOD:PUBLISH
BEGIN:VEVENT
UID:20260422T064705UTC-1484jhv8Cu@https://eruuf.org/
DTSTAMP:20260422T064705Z
DESCRIPTION:Stay tuned for new date. Ready to become a member of ERUUF? Thi
 s class is for you! Advance registration required\; childcare available if
  needed.Register at: http://tinyurl.com/J2M-Aug2017   For more information
  contact: Jacqueline Brett - jbrett@eruuf.org  https://eruuf.org/calendar/
 calendar-view/event/3787-postponed-journey-to-membership-class.html
DTSTART:20180120T140000Z
DTEND:20180120T170000Z
LOCATION:Room 4/5   (4907 Garrett Rd\, Durham\, NC 27707   )
SUMMARY:POSTPONED - Journey to Membership class
URL:https://eruuf.org/calendar/calendar-view/event/3787-postponed-journey-t
 o-membership-class.html
END:VEVENT
END:VCALENDAR
