BEGIN:VCALENDAR
VERSION:2.0
PRODID:-//https://eruuf.org///NONSGML kigkonsult.se iCalcreator 2.10.15//
METHOD:PUBLISH
BEGIN:VEVENT
UID:20260424T140140UTC-4347GldhfT@https://eruuf.org/
DTSTAMP:20260424T140140Z
DESCRIPTION:Are you ready to join ERUUF? If you’ve been visiting ERUUF for 
 at least 4 weeks (12 weeks if you’re new to Unitarian Universalism)\, and 
 are now interested in becoming a member\, this is the class for you. You'l
 l learn more about ERUUF\, the difference membership makes\, and participa
 te in a book signing ceremony with Rev. Cayer. Childcare provided if reque
 sted by October 23rd. Please register at: http://tinyurl.com/J2M-Oct2017. 
 Questions? Contact: Jacqueline Brett: jbrett@eruuf.org.    https://eruuf.o
 rg/calendar/calendar-view/event/3789-journey-to-membership-class.html
DTSTART:20171028T130000Z
DTEND:20171028T160000Z
LOCATION:Room 4/5   (4907 Garrett Rd\, Durham\, NC 27707   )
SUMMARY:Journey to Membership class
URL:https://eruuf.org/calendar/calendar-view/event/3789-journey-to-membersh
 ip-class.html
END:VEVENT
END:VCALENDAR
