BEGIN:VCALENDAR
VERSION:2.0
PRODID:-//https://eruuf.org///NONSGML kigkonsult.se iCalcreator 2.10.15//
METHOD:PUBLISH
BEGIN:VEVENT
UID:20260422T183340UTC-6586mJMzZT@https://eruuf.org/
DTSTAMP:20260422T183340Z
DESCRIPTION:\nSOLD OUT! Community Barn Dance November 10\nINFO FOR TICKET H
 OLDERS\nDANCE BEGINS AT 7 PM!! Contra dancing is aerobic! Wear short sleev
 e shirts and swirly skirts\, pants or shorts. Dress in layers. Please wear
  comfortable shoes with a smooth sole. Remember Joy will be our caller and
  she will give some initial instruction. No experience or partner is neces
 sary. Come and enjoy the band\, the caller\, and the company of family and
  friends!!\n  https://eruuf.org/calendar/calendar-view/event/3873-it-s-fal
 l-y-all-barn-dance.html
DTSTART:20181111T000000Z
DTEND:20181111T020000Z
LOCATION:Fellowship Hall   ()
SUMMARY:It’s Fall\, Y’All Barn Dance 
URL:https://eruuf.org/calendar/calendar-view/event/3873-it-s-fall-y-all-bar
 n-dance.html
END:VEVENT
END:VCALENDAR
