BEGIN:VCALENDAR
VERSION:2.0
PRODID:-//https://eruuf.org///NONSGML kigkonsult.se iCalcreator 2.10.15//
METHOD:PUBLISH
BEGIN:VEVENT
UID:20260419T123705UTC-9928CmOvuv@https://eruuf.org/
DTSTAMP:20260419T123705Z
DESCRIPTION:Contact Diane Blount https://eruuf.org/calendar/calendar-view/e
 vent/395-change-team.html
DTSTART:20170303T000000Z
DTEND:20170303T020000Z
LOCATION:Room 3 - CARE Building ()
SUMMARY:Change Team
URL:https://eruuf.org/calendar/calendar-view/event/395-change-team.html
END:VEVENT
END:VCALENDAR
