BEGIN:VCALENDAR
VERSION:2.0
PRODID:-//https://eruuf.org///NONSGML kigkonsult.se iCalcreator 2.10.15//
METHOD:PUBLISH
BEGIN:VEVENT
UID:20260423T075725UTC-60950ULASK@https://eruuf.org/
DTSTAMP:20260423T075725Z
DESCRIPTION:Contact Mark Henault https://eruuf.org/calendar/calendar-view/e
 vent/401-stewardship-council.html
DTSTART:20170221T000000Z
DTEND:20170221T013000Z
LOCATION:Room 7 - CARE Building ()
SUMMARY:Stewardship Council
URL:https://eruuf.org/calendar/calendar-view/event/401-stewardship-council.
 html
END:VEVENT
END:VCALENDAR
