BEGIN:VCALENDAR
VERSION:2.0
PRODID:-//https://eruuf.org///NONSGML kigkonsult.se iCalcreator 2.10.15//
METHOD:PUBLISH
BEGIN:VEVENT
UID:20260424T201917UTC-7886LF8aix@https://eruuf.org/
DTSTAMP:20260424T201917Z
DESCRIPTION:Contact P. Quick Hall. https://eruuf.org/calendar/calendar-view
 /event/412-hbcu-outreach-project.html
DTSTART:20170213T234500Z
DTEND:20170214T020000Z
LOCATION:Room 1 - CARE Building ()
SUMMARY:HBCU Outreach Project
URL:https://eruuf.org/calendar/calendar-view/event/412-hbcu-outreach-projec
 t.html
END:VEVENT
END:VCALENDAR
