BEGIN:VCALENDAR
VERSION:2.0
PRODID:-//https://eruuf.org///NONSGML kigkonsult.se iCalcreator 2.10.15//
METHOD:PUBLISH
BEGIN:VEVENT
UID:20260420T054400UTC-5667vKDAPI@https://eruuf.org/
DTSTAMP:20260420T054400Z
DESCRIPTION:Many in our community have experienced human loss in the past y
 ear.  Finding a new equilibrium with that relationship takes time\, as we 
 move through various stages in our own hearts and through the calendar tim
 e of events.  Grief is particularly difficult and often becomes magnified 
 as we move into the holiday season.  By joining with others in a confident
 ial\, safe community of support\, we can share our grief\, finding our way
  toward healing.This 6 week support group is facilitated by Rev. Stacy Gro
 ve and Rev. Nancy Huslage\, an Interfaith Minister and former hospice chap
 lain who has led grief groups for many years.  Space is limited. To regist
 er contact Rev. Stacy Grove Sgrove@eruuf.org\, 919.489.2575  x103 https://
 eruuf.org/calendar/calendar-view/event/4127-navigating-our-journey-with-gr
 ief.html
DTSTART:20171031T223000Z
DTEND:20171101T000000Z
LOCATION:Commons Room   (4907 Garrett Rd\, Durham\, NC 27707  )
SUMMARY:Navigating Our Journey with Grief
URL:https://eruuf.org/calendar/calendar-view/event/4127-navigating-our-jour
 ney-with-grief.html
END:VEVENT
END:VCALENDAR
