BEGIN:VCALENDAR
VERSION:2.0
PRODID:-//https://eruuf.org///NONSGML kigkonsult.se iCalcreator 2.10.15//
METHOD:PUBLISH
BEGIN:VEVENT
UID:20260420T064109UTC-6590UGWXu3@https://eruuf.org/
DTSTAMP:20260420T064109Z
DESCRIPTION:As we live our lives with its many distractions and busyness\, 
 it is easy sometimes to numb or distract ourselves\, avoiding our grief ar
 ound our many losses. Loss of the familiar as our culture shifts\, loss of
  jobs\, relationships\, and the death of close friends and family. Therapi
 st Francis Weller in his book\, “The Wild Edge of Sorrow”\, says that grie
 f needs to be expressed and held in community. Giving voice and feeling to
  our grief is our path toward healing. Facilitated by Rev. Grove. https://
 eruuf.org/calendar/calendar-view/event/4175-listening-circle.html
DTSTART:20171105T153000Z
DTEND:20171105T160000Z
LOCATION:Chapel   ()
SUMMARY:Listening Circle
URL:https://eruuf.org/calendar/calendar-view/event/4175-listening-circle.ht
 ml
END:VEVENT
END:VCALENDAR
