BEGIN:VCALENDAR
VERSION:2.0
PRODID:-//https://eruuf.org///NONSGML kigkonsult.se iCalcreator 2.10.15//
METHOD:PUBLISH
BEGIN:VEVENT
UID:20260424T222228UTC-72554O8rnL@https://eruuf.org/
DTSTAMP:20260424T222228Z
DESCRIPTION:Contact Simon Kaplan https://eruuf.org/calendar/calendar-view/e
 vent/423-nominating-committee.html
DTSTART:20170205T180000Z
DTEND:20170205T191500Z
LOCATION:Library - CARE Building ()
SUMMARY:Nominating Committee
URL:https://eruuf.org/calendar/calendar-view/event/423-nominating-committee
 .html
END:VEVENT
END:VCALENDAR
