BEGIN:VCALENDAR
VERSION:2.0
PRODID:-//https://eruuf.org///NONSGML kigkonsult.se iCalcreator 2.10.15//
METHOD:PUBLISH
BEGIN:VEVENT
UID:20260420T172637UTC-35189GnNdj@https://eruuf.org/
DTSTAMP:20260420T172637Z
DESCRIPTION:Contact Sue Kister. https://eruuf.org/calendar/calendar-view/ev
 ent/428-nominating-committee.html
DTSTART:20170129T180000Z
DTEND:20170129T193000Z
LOCATION:Library - CARE Building ()
SUMMARY:Nominating Committee
URL:https://eruuf.org/calendar/calendar-view/event/428-nominating-committee
 .html
END:VEVENT
END:VCALENDAR
