BEGIN:VCALENDAR
VERSION:2.0
PRODID:-//https://eruuf.org///NONSGML kigkonsult.se iCalcreator 2.10.15//
METHOD:PUBLISH
BEGIN:VEVENT
UID:20260424T031037UTC-8072Wpuwem@https://eruuf.org/
DTSTAMP:20260424T031037Z
DESCRIPTION:Board Listening Sessions about the Special CampaignFor more inf
 ormation contact\, Albert Hardy albertinnc@gmail.com https://eruuf.org/cal
 endar/calendar-view/event/4308-board-listening-sessions-about-the-special-
 campaign.html
DTSTART:20180415T163000Z
DTEND:20180415T173000Z
LOCATION:Room 4/5   (4907 Garrett Rd\, Durham\, NC 27707   )
SUMMARY:Board Listening Sessions about the Special Campaign
URL:https://eruuf.org/calendar/calendar-view/event/4308-board-listening-ses
 sions-about-the-special-campaign.html
END:VEVENT
END:VCALENDAR
