BEGIN:VCALENDAR
VERSION:2.0
PRODID:-//https://eruuf.org///NONSGML kigkonsult.se iCalcreator 2.10.15//
METHOD:PUBLISH
BEGIN:VEVENT
UID:20260423T162953UTC-3962opJDZf@https://eruuf.org/
DTSTAMP:20260423T162953Z
DESCRIPTION:Standing committee of the Board of Trustees.   https://eruuf.or
 g/calendar/calendar-view/event/441-committee-on-the-evaluation-of-ministry
 .html
DTSTART:20170120T000000Z
DTEND:20170120T020000Z
LOCATION:Room 3 - CARE Building ()
SUMMARY:Committee on the Evaluation of Ministry
URL:https://eruuf.org/calendar/calendar-view/event/441-committee-on-the-eva
 luation-of-ministry.html
END:VEVENT
END:VCALENDAR
