BEGIN:VCALENDAR
VERSION:2.0
PRODID:-//https://eruuf.org///NONSGML kigkonsult.se iCalcreator 2.10.15//
METHOD:PUBLISH
BEGIN:VEVENT
UID:20260421T114432UTC-5164gFsO1u@https://eruuf.org/
DTSTAMP:20260421T114432Z
DESCRIPTION:Join the Multicultural Team in the Commons Room to watch and di
 scuss 'Does Racism Affect How You Vote?'\, a TED talk by Nate Silver.  htt
 ps://eruuf.org/calendar/calendar-view/event/443-rescheduled-multicultural-
 team-ted-talk-discussion.html
DTSTART:20170119T000000Z
DTEND:20170119T020000Z
LOCATION:Room 4/5   (4907 Garrett Rd\, Durham\, NC 27707   )
SUMMARY:RESCHEDULED - Multicultural Team TED talk discussion
URL:https://eruuf.org/calendar/calendar-view/event/443-rescheduled-multicul
 tural-team-ted-talk-discussion.html
END:VEVENT
END:VCALENDAR
