BEGIN:VCALENDAR
VERSION:2.0
PRODID:-//https://eruuf.org///NONSGML kigkonsult.se iCalcreator 2.10.15//
METHOD:PUBLISH
BEGIN:VEVENT
UID:20260425T223230UTC-2135CrU8rc@https://eruuf.org/
DTSTAMP:20260425T223230Z
DESCRIPTION:Contact Joy Sotolongo https://eruuf.org/calendar/calendar-view/
 event/444-generosity-sunday-committee.html
DTSTART:20170117T234600Z
DTEND:20170118T021500Z
LOCATION:Room 3 - CARE Building ()
SUMMARY:Generosity Sunday Committee
URL:https://eruuf.org/calendar/calendar-view/event/444-generosity-sunday-co
 mmittee.html
END:VEVENT
END:VCALENDAR
