BEGIN:VCALENDAR
VERSION:2.0
PRODID:-//https://eruuf.org///NONSGML kigkonsult.se iCalcreator 2.10.15//
METHOD:PUBLISH
BEGIN:VEVENT
UID:20260425T134745UTC-22388mevku@https://eruuf.org/
DTSTAMP:20260425T134745Z
DESCRIPTION:The Board of Trustees monthly meeting is open for viewing to al
 l ERUUF members. Contact David Tucker\, Board Chair\, board@eruuf.org http
 s://eruuf.org/calendar/calendar-view/event/445-board-of-trustees-meeting.h
 tml
DTSTART:20170117T233000Z
DTEND:20170118T023000Z
LOCATION:Room 1 - CARE Building ()
SUMMARY:Board of Trustees meeting
URL:https://eruuf.org/calendar/calendar-view/event/445-board-of-trustees-me
 eting.html
END:VEVENT
END:VCALENDAR
