BEGIN:VCALENDAR
VERSION:2.0
PRODID:-//https://eruuf.org///NONSGML kigkonsult.se iCalcreator 2.10.15//
METHOD:PUBLISH
BEGIN:VEVENT
UID:20260423T123832UTC-0417Bpbu83@https://eruuf.org/
DTSTAMP:20260423T123832Z
DESCRIPTION:Monthly meeting of the Multicultural Team.  Contact Diane Bloun
 t https://eruuf.org/calendar/calendar-view/event/446-multicultural-team-me
 eting.html
DTSTART:20170117T000000Z
DTEND:20170117T020000Z
LOCATION:Room 1 - CARE Building ()
SUMMARY:Multicultural Team meeting
URL:https://eruuf.org/calendar/calendar-view/event/446-multicultural-team-m
 eeting.html
END:VEVENT
END:VCALENDAR
