BEGIN:VCALENDAR
VERSION:2.0
PRODID:-//https://eruuf.org///NONSGML kigkonsult.se iCalcreator 2.10.15//
METHOD:PUBLISH
BEGIN:VEVENT
UID:20260422T090503UTC-1410NEVh48@https://eruuf.org/
DTSTAMP:20260422T090503Z
DESCRIPTION:Memorial service for Anita McLeod\, wife of Mike McLeod\, follo
 wed by a reception in the Fellowship Hall. https://eruuf.org/calendar/cale
 ndar-view/event/447-memorial-service-for-anita-mcleod.html
DTSTART:20170116T200000Z
DTEND:20170116T230000Z
LOCATION:Sanctuary - ERUUF   (4907 Garrett Road\, Durham\, NC 27707  )
SUMMARY:Memorial service for Anita McLeod
URL:https://eruuf.org/calendar/calendar-view/event/447-memorial-service-for
 -anita-mcleod.html
END:VEVENT
END:VCALENDAR
