BEGIN:VCALENDAR
VERSION:2.0
PRODID:-//https://eruuf.org///NONSGML kigkonsult.se iCalcreator 2.10.15//
METHOD:PUBLISH
BEGIN:VEVENT
UID:20260422T210341UTC-8746HkHRKs@https://eruuf.org/
DTSTAMP:20260422T210341Z
DESCRIPTION: https://eruuf.org/calendar/calendar-view/event/449-nominating-
 committee.html
DTSTART:20170115T180000Z
DTEND:20170115T191500Z
LOCATION:Library - CARE Building ()
SUMMARY:Nominating Committee
URL:https://eruuf.org/calendar/calendar-view/event/449-nominating-committee
 .html
END:VEVENT
END:VCALENDAR
