BEGIN:VCALENDAR
VERSION:2.0
PRODID:-//https://eruuf.org///NONSGML kigkonsult.se iCalcreator 2.10.15//
METHOD:PUBLISH
BEGIN:VEVENT
UID:20260421T170106UTC-3824gvEaaM@https://eruuf.org/
DTSTAMP:20260421T170106Z
DESCRIPTION: https://eruuf.org/calendar/calendar-view/event/4539-stewardshi
 p-council.html
DTSTART:20190507T230000Z
DTEND:20190508T003000Z
LOCATION:Room 1 - CARE Building ()
SUMMARY:Stewardship Council
URL:https://eruuf.org/calendar/calendar-view/event/4539-stewardship-council
 .html
END:VEVENT
END:VCALENDAR
