BEGIN:VCALENDAR
VERSION:2.0
PRODID:-//https://eruuf.org///NONSGML kigkonsult.se iCalcreator 2.10.15//
METHOD:PUBLISH
BEGIN:VEVENT
UID:20260421T183527UTC-2013krP9IZ@https://eruuf.org/
DTSTAMP:20260421T183527Z
DESCRIPTION: https://eruuf.org/calendar/calendar-view/event/4543-stewardshi
 p-council.html
DTSTART:20190109T000000Z
DTEND:20190109T013000Z
LOCATION:Room 1 - CARE Building ()
SUMMARY:Stewardship Council
URL:https://eruuf.org/calendar/calendar-view/event/4543-stewardship-council
 .html
END:VEVENT
END:VCALENDAR
