BEGIN:VCALENDAR
VERSION:2.0
PRODID:-//https://eruuf.org///NONSGML kigkonsult.se iCalcreator 2.10.15//
METHOD:PUBLISH
BEGIN:VEVENT
UID:20260422T005437UTC-2718AsPKu0@https://eruuf.org/
DTSTAMP:20260422T005437Z
DESCRIPTION: https://eruuf.org/calendar/calendar-view/event/4544-stewardshi
 p-council.html
DTSTART:20181205T000000Z
DTEND:20181205T013000Z
LOCATION:Room 1 - CARE Building ()
SUMMARY:Stewardship Council
URL:https://eruuf.org/calendar/calendar-view/event/4544-stewardship-council
 .html
END:VEVENT
END:VCALENDAR
