BEGIN:VCALENDAR
VERSION:2.0
PRODID:-//https://eruuf.org///NONSGML kigkonsult.se iCalcreator 2.10.15//
METHOD:PUBLISH
BEGIN:VEVENT
UID:20260423T182420UTC-3490fFg1Vp@https://eruuf.org/
DTSTAMP:20260423T182420Z
DESCRIPTION: https://eruuf.org/calendar/calendar-view/event/4545-stewardshi
 p-council.html
DTSTART:20181107T000000Z
DTEND:20181107T013000Z
LOCATION:Room 1 - CARE Building ()
SUMMARY:Stewardship Council
URL:https://eruuf.org/calendar/calendar-view/event/4545-stewardship-council
 .html
END:VEVENT
END:VCALENDAR
