BEGIN:VCALENDAR
VERSION:2.0
PRODID:-//https://eruuf.org///NONSGML kigkonsult.se iCalcreator 2.10.15//
METHOD:PUBLISH
BEGIN:VEVENT
UID:20260424T134144UTC-2588up1Mew@https://eruuf.org/
DTSTAMP:20260424T134144Z
DESCRIPTION: https://eruuf.org/calendar/calendar-view/event/4547-stewardshi
 p-council.html
DTSTART:20180904T230000Z
DTEND:20180905T003000Z
LOCATION:Room 1 - CARE Building ()
SUMMARY:Stewardship Council
URL:https://eruuf.org/calendar/calendar-view/event/4547-stewardship-council
 .html
END:VEVENT
END:VCALENDAR
