BEGIN:VCALENDAR
VERSION:2.0
PRODID:-//https://eruuf.org///NONSGML kigkonsult.se iCalcreator 2.10.15//
METHOD:PUBLISH
BEGIN:VEVENT
UID:20260422T154142UTC-32980voEVK@https://eruuf.org/
DTSTAMP:20260422T154142Z
DESCRIPTION: https://eruuf.org/calendar/calendar-view/event/4548-stewardshi
 p-council.html
DTSTART:20180807T230000Z
DTEND:20180808T003000Z
LOCATION:Room 1 - CARE Building ()
SUMMARY:Stewardship Council
URL:https://eruuf.org/calendar/calendar-view/event/4548-stewardship-council
 .html
END:VEVENT
END:VCALENDAR
