BEGIN:VCALENDAR
VERSION:2.0
PRODID:-//https://eruuf.org///NONSGML kigkonsult.se iCalcreator 2.10.15//
METHOD:PUBLISH
BEGIN:VEVENT
UID:20260422T022306UTC-8826r5WLvd@https://eruuf.org/
DTSTAMP:20260422T022306Z
DESCRIPTION: https://eruuf.org/calendar/calendar-view/event/47-stewardship-
 council.html
DTSTART:20180605T230000Z
DTEND:20180606T003000Z
LOCATION:Room 1 - CARE Building ()
SUMMARY:Stewardship Council
URL:https://eruuf.org/calendar/calendar-view/event/47-stewardship-council.h
 tml
END:VEVENT
END:VCALENDAR
