BEGIN:VCALENDAR
VERSION:2.0
PRODID:-//https://eruuf.org///NONSGML kigkonsult.se iCalcreator 2.10.15//
METHOD:PUBLISH
BEGIN:VEVENT
UID:20260425T142446UTC-8196wkMk8n@https://eruuf.org/
DTSTAMP:20260425T142446Z
DESCRIPTION: https://eruuf.org/calendar/calendar-view/event/4797-newcomer-o
 rientation.html
DTSTART:20190414T143000Z
DTEND:20190414T150000Z
LOCATION:Chapel   ()
SUMMARY:Newcomer Orientation
URL:https://eruuf.org/calendar/calendar-view/event/4797-newcomer-orientatio
 n.html
END:VEVENT
END:VCALENDAR
